BEGIN:VCALENDAR
VERSION:2.0
PRODID:-//Ruches et Biodiversité de la Royale - ECPv6.15.20//NONSGML v1.0//EN
CALSCALE:GREGORIAN
METHOD:PUBLISH
X-WR-CALNAME:Ruches et Biodiversité de la Royale
X-ORIGINAL-URL:https://www.ruchesbioroyale.fr
X-WR-CALDESC:Évènements pour Ruches et Biodiversité de la Royale
REFRESH-INTERVAL;VALUE=DURATION:PT1H
X-Robots-Tag:noindex
X-PUBLISHED-TTL:PT1H
BEGIN:VTIMEZONE
TZID:Europe/Paris
BEGIN:DAYLIGHT
TZOFFSETFROM:+0100
TZOFFSETTO:+0200
TZNAME:CEST
DTSTART:20250330T010000
END:DAYLIGHT
BEGIN:STANDARD
TZOFFSETFROM:+0200
TZOFFSETTO:+0100
TZNAME:CET
DTSTART:20251026T010000
END:STANDARD
BEGIN:DAYLIGHT
TZOFFSETFROM:+0100
TZOFFSETTO:+0200
TZNAME:CEST
DTSTART:20260329T010000
END:DAYLIGHT
BEGIN:STANDARD
TZOFFSETFROM:+0200
TZOFFSETTO:+0100
TZNAME:CET
DTSTART:20261025T010000
END:STANDARD
BEGIN:DAYLIGHT
TZOFFSETFROM:+0100
TZOFFSETTO:+0200
TZNAME:CEST
DTSTART:20270328T010000
END:DAYLIGHT
BEGIN:STANDARD
TZOFFSETFROM:+0200
TZOFFSETTO:+0100
TZNAME:CET
DTSTART:20271031T010000
END:STANDARD
END:VTIMEZONE
BEGIN:VEVENT
DTSTART;TZID=Europe/Paris:20260122T120000
DTEND;TZID=Europe/Paris:20260122T133000
DTSTAMP:20260419T204943
CREATED:20260121T132541Z
LAST-MODIFIED:20260121T135039Z
UID:9498-1769083200-1769088600@www.ruchesbioroyale.fr
SUMMARY:Pique-nique au jardin St Mandrier
DESCRIPTION:Menu : \n\nCrêpes salées et sucrées\nDaube de sanglier\, purée\nPâtes au saumon\n\n  \n			\n				\n				\n				\n				\n				Découvrez sur notre stand une sélection de produits en circuit court tels que nos confitures\, notre miel et les produits de nos partenaires producteurs. \n\n \n\n\n			\n				\n				\n				\n				\n				Les repas à emporter seront disponibles en fin de service en fonction des restants. \n\n			\n				\n				\n				\n				\n				Accessible aux personnes ayant un accès au PEM Saint Mandrier \n\n			\n				\n				\n				\n				\n				La date de l'événement est susceptible d’être modifiée en fonction des conditions météorologiques.
URL:https://www.ruchesbioroyale.fr/evenement/pique-nique-au-jardin-st-mandrier/
CATEGORIES:Repas
ATTACH;FMTTYPE=image/jpeg:https://www.ruchesbioroyale.fr/wp-content/uploads/2024/01/Jardin_St_Mandrier.jpg
ORGANIZER;CN="Ruches et Biodiversit%C3%A9 de la Royale":MAILTO:contact@ruchesbioroyale.fr
END:VEVENT
END:VCALENDAR