BEGIN:VCALENDAR
VERSION:2.0
PRODID:-//Ruches et Biodiversité de la Royale - ECPv6.15.20//NONSGML v1.0//EN
CALSCALE:GREGORIAN
METHOD:PUBLISH
X-WR-CALNAME:Ruches et Biodiversité de la Royale
X-ORIGINAL-URL:https://www.ruchesbioroyale.fr
X-WR-CALDESC:Évènements pour Ruches et Biodiversité de la Royale
REFRESH-INTERVAL;VALUE=DURATION:PT1H
X-Robots-Tag:noindex
X-PUBLISHED-TTL:PT1H
BEGIN:VTIMEZONE
TZID:Europe/Paris
BEGIN:DAYLIGHT
TZOFFSETFROM:+0100
TZOFFSETTO:+0200
TZNAME:CEST
DTSTART:20240331T010000
END:DAYLIGHT
BEGIN:STANDARD
TZOFFSETFROM:+0200
TZOFFSETTO:+0100
TZNAME:CET
DTSTART:20241027T010000
END:STANDARD
BEGIN:DAYLIGHT
TZOFFSETFROM:+0100
TZOFFSETTO:+0200
TZNAME:CEST
DTSTART:20250330T010000
END:DAYLIGHT
BEGIN:STANDARD
TZOFFSETFROM:+0200
TZOFFSETTO:+0100
TZNAME:CET
DTSTART:20251026T010000
END:STANDARD
BEGIN:DAYLIGHT
TZOFFSETFROM:+0100
TZOFFSETTO:+0200
TZNAME:CEST
DTSTART:20260329T010000
END:DAYLIGHT
BEGIN:STANDARD
TZOFFSETFROM:+0200
TZOFFSETTO:+0100
TZNAME:CET
DTSTART:20261025T010000
END:STANDARD
END:VTIMEZONE
BEGIN:VEVENT
DTSTART;TZID=Europe/Paris:20251113T120000
DTEND;TZID=Europe/Paris:20251113T133000
DTSTAMP:20260420T000853
CREATED:20251107T072851Z
LAST-MODIFIED:20251111T134723Z
UID:9351-1763035200-1763040600@www.ruchesbioroyale.fr
SUMMARY:Pique-nique au jardin Ste Anne
DESCRIPTION:Menu : \nVelouté de courge du jardin\, \nPlats : \n\nTartiflette au pommes de terre de Castellane\nCassoulet au confit de canard maison et coco du jardin\,\n\nDessert : \n\nTartes fines de saison\,\nGâteau de patates douces.\n\n  \n			\n				\n				\n				\n				\n				Vente de notre récolte de pommes de terre de Castellane et de patates douces de nos jardins.\n			\n				\n				\n				\n				\n				Découvrez sur notre stand une sélection de produits en circuit court tels que nos confitures\, notre miel et les produits de nos partenaires producteurs. \n\n \n\n\n			\n				\n				\n				\n				\n				Les repas à emporter seront disponibles en fin de service en fonction des restants. \n\n			\n				\n				\n				\n				\n				Accessible aux personnes ayant un accès à la base vie et/ou au jardin Ste Anne. \n\n			\n				\n				\n				\n				\n				La date de l'événement est susceptible d’être modifiée en fonction des conditions météorologiques.
URL:https://www.ruchesbioroyale.fr/evenement/pique-nique-au-jardin-ste-anne-131125/
LOCATION:Jardin Ste Anne\, 4WMM+8XC\, Toulon\, 83000\, France
CATEGORIES:Repas
ATTACH;FMTTYPE=image/jpeg:https://www.ruchesbioroyale.fr/wp-content/uploads/2024/01/Pique-nique1.jpg
ORGANIZER;CN="Ruches et Biodiversit%C3%A9 de la Royale":MAILTO:contact@ruchesbioroyale.fr
END:VEVENT
END:VCALENDAR