BEGIN:VCALENDAR
VERSION:2.0
PRODID:-//Ruches et Biodiversité de la Royale - ECPv6.15.20//NONSGML v1.0//EN
CALSCALE:GREGORIAN
METHOD:PUBLISH
X-WR-CALNAME:Ruches et Biodiversité de la Royale
X-ORIGINAL-URL:https://www.ruchesbioroyale.fr
X-WR-CALDESC:Évènements pour Ruches et Biodiversité de la Royale
REFRESH-INTERVAL;VALUE=DURATION:PT1H
X-Robots-Tag:noindex
X-PUBLISHED-TTL:PT1H
BEGIN:VTIMEZONE
TZID:Europe/Paris
BEGIN:DAYLIGHT
TZOFFSETFROM:+0100
TZOFFSETTO:+0200
TZNAME:CEST
DTSTART:20230326T010000
END:DAYLIGHT
BEGIN:STANDARD
TZOFFSETFROM:+0200
TZOFFSETTO:+0100
TZNAME:CET
DTSTART:20231029T010000
END:STANDARD
BEGIN:DAYLIGHT
TZOFFSETFROM:+0100
TZOFFSETTO:+0200
TZNAME:CEST
DTSTART:20240331T010000
END:DAYLIGHT
BEGIN:STANDARD
TZOFFSETFROM:+0200
TZOFFSETTO:+0100
TZNAME:CET
DTSTART:20241027T010000
END:STANDARD
BEGIN:DAYLIGHT
TZOFFSETFROM:+0100
TZOFFSETTO:+0200
TZNAME:CEST
DTSTART:20250330T010000
END:DAYLIGHT
BEGIN:STANDARD
TZOFFSETFROM:+0200
TZOFFSETTO:+0100
TZNAME:CET
DTSTART:20251026T010000
END:STANDARD
END:VTIMEZONE
BEGIN:VEVENT
DTSTART;TZID=Europe/Paris:20240606T120000
DTEND;TZID=Europe/Paris:20240606T120000
DTSTAMP:20260422T140114
CREATED:20240521T045624Z
LAST-MODIFIED:20240527T140343Z
UID:8979-1717675200-1717675200@www.ruchesbioroyale.fr
SUMMARY:Pique-nique au jardin Ste Anne
DESCRIPTION:Menu : Hamburger frites\, Aïoli légumes\, Salade grecque\, Brownies glace vanille. \n			\n				\n				\n				\n				\n				Découvrez sur notre stand une sélection de produits en circuit court tels que nos confitures\, notre miel et les produits de nos partenaires producteurs. \n\n \n\n\n			\n				\n				\n				\n				\n				Les repas à emporter seront disponibles en fin de service en fonction des restants. \n\n			\n				\n				\n				\n				\n				Accessible aux personnes ayant un accès à la base vie et/ou au jardin Ste Anne. \n\n			\n				\n				\n				\n				\n				La date de l'événement est susceptible d’être modifiée en fonction des conditions météorologiques.
URL:https://www.ruchesbioroyale.fr/evenement/pique-nique-au-jardin-ste-anne-06062024/
LOCATION:Jardin Ste Anne\, 4WMM+8XC\, Toulon\, 83000\, France
CATEGORIES:Repas
ATTACH;FMTTYPE=image/jpeg:https://www.ruchesbioroyale.fr/wp-content/uploads/2024/01/Pique-nique1.jpg
ORGANIZER;CN="Ruches et Biodiversit%C3%A9 de la Royale":MAILTO:contact@ruchesbioroyale.fr
END:VEVENT
BEGIN:VEVENT
DTSTART;TZID=Europe/Paris:20240613T090000
DTEND;TZID=Europe/Paris:20240613T150000
DTSTAMP:20260422T140114
CREATED:20240610T065403Z
LAST-MODIFIED:20240610T065836Z
UID:9018-1718269200-1718290800@www.ruchesbioroyale.fr
SUMMARY:Fête des pères au foyer Oudard
DESCRIPTION:L’association sera présente lors de la Fête des pères au foyer Oudard de la base vie Ste Anne. Elle vous proposera une restauration rapide. \n			\n				\n				\n				\n				\n				Découvrez sur notre stand une sélection de produits en circuit court tels que nos confitures\, notre miel et les produits de nos partenaires producteurs. \n\n \n\n\n			\n				\n				\n				\n				\n				Accessible aux personnes ayant un accès à la base vie et/ou au jardin Ste Anne.
URL:https://www.ruchesbioroyale.fr/evenement/fete-des-peres-au-foyer-oudard/
LOCATION:Jardin Ste Anne\, 4WMM+8XC\, Toulon\, 83000\, France
CATEGORIES:Repas
ATTACH;FMTTYPE=image/jpeg:https://www.ruchesbioroyale.fr/wp-content/uploads/2024/06/affiche-Fete-des-peres-13-juin-2024.jpg
ORGANIZER;CN="Ruches et Biodiversit%C3%A9 de la Royale":MAILTO:contact@ruchesbioroyale.fr
END:VEVENT
BEGIN:VEVENT
DTSTART;TZID=Europe/Paris:20240621T120000
DTEND;TZID=Europe/Paris:20240621T133000
DTSTAMP:20260422T140114
CREATED:20240610T065640Z
LAST-MODIFIED:20240610T065900Z
UID:9023-1718971200-1718976600@www.ruchesbioroyale.fr
SUMMARY:Fête de la musique au foyer Oudard
DESCRIPTION:L’association sera présente lors de la musique au foyer Oudard de la base vie Ste Anne. Elle vous proposera une restauration rapide. \n			\n				\n				\n				\n				\n				Découvrez sur notre stand une sélection de produits en circuit court tels que nos confitures\, notre miel et les produits de nos partenaires producteurs. \n\n \n\n\n			\n				\n				\n				\n				\n				Accessible aux personnes ayant un accès à la base vie et/ou au jardin Ste Anne.
URL:https://www.ruchesbioroyale.fr/evenement/fete-des-peres-au-foyer-oudard-2/
LOCATION:Jardin Ste Anne\, 4WMM+8XC\, Toulon\, 83000\, France
CATEGORIES:Repas
ATTACH;FMTTYPE=image/jpeg:https://www.ruchesbioroyale.fr/wp-content/uploads/2024/06/Concert-fete-de-la-musique.jpg
ORGANIZER;CN="Ruches et Biodiversit%C3%A9 de la Royale":MAILTO:contact@ruchesbioroyale.fr
END:VEVENT
END:VCALENDAR