BEGIN:VCALENDAR
VERSION:2.0
PRODID:-//Ruches et Biodiversité de la Royale - ECPv6.15.20//NONSGML v1.0//EN
CALSCALE:GREGORIAN
METHOD:PUBLISH
X-WR-CALNAME:Ruches et Biodiversité de la Royale
X-ORIGINAL-URL:https://www.ruchesbioroyale.fr
X-WR-CALDESC:Évènements pour Ruches et Biodiversité de la Royale
REFRESH-INTERVAL;VALUE=DURATION:PT1H
X-Robots-Tag:noindex
X-PUBLISHED-TTL:PT1H
BEGIN:VTIMEZONE
TZID:Europe/Paris
BEGIN:DAYLIGHT
TZOFFSETFROM:+0100
TZOFFSETTO:+0200
TZNAME:CEST
DTSTART:20230326T010000
END:DAYLIGHT
BEGIN:STANDARD
TZOFFSETFROM:+0200
TZOFFSETTO:+0100
TZNAME:CET
DTSTART:20231029T010000
END:STANDARD
BEGIN:DAYLIGHT
TZOFFSETFROM:+0100
TZOFFSETTO:+0200
TZNAME:CEST
DTSTART:20240331T010000
END:DAYLIGHT
BEGIN:STANDARD
TZOFFSETFROM:+0200
TZOFFSETTO:+0100
TZNAME:CET
DTSTART:20241027T010000
END:STANDARD
BEGIN:DAYLIGHT
TZOFFSETFROM:+0100
TZOFFSETTO:+0200
TZNAME:CEST
DTSTART:20250330T010000
END:DAYLIGHT
BEGIN:STANDARD
TZOFFSETFROM:+0200
TZOFFSETTO:+0100
TZNAME:CET
DTSTART:20251026T010000
END:STANDARD
END:VTIMEZONE
BEGIN:VEVENT
DTSTART;TZID=Europe/Paris:20240516T120000
DTEND;TZID=Europe/Paris:20240516T133000
DTSTAMP:20260422T160148
CREATED:20240429T133200Z
LAST-MODIFIED:20240429T133504Z
UID:8927-1715860800-1715866200@www.ruchesbioroyale.fr
SUMMARY:Pique-nique au jardin Ste Anne
DESCRIPTION:Thème : Paëlla\, grillades\, salade composée.  \n			\n				\n				\n				\n				\n				Découvrez sur notre stand une sélection de produits en circuit court tels que nos confitures\, notre miel et les produits de nos partenaires producteurs. \n\n \n\n\n			\n				\n				\n				\n				\n				Les repas à emporter seront disponibles en fin de service en fonction des restants. \n\n			\n				\n				\n				\n				\n				Accessible aux personnes ayant un accès à la base vie et/ou au jardin Ste Anne. \n\n			\n				\n				\n				\n				\n				La date de l'événement est susceptible d’être modifiée en fonction des conditions météorologiques.
URL:https://www.ruchesbioroyale.fr/evenement/pique-nique-au-jardin-ste-anne-160524/
LOCATION:Jardin Ste Anne\, 4WMM+8XC\, Toulon\, 83000\, France
CATEGORIES:Repas
ATTACH;FMTTYPE=image/jpeg:https://www.ruchesbioroyale.fr/wp-content/uploads/2024/01/Pique-nique1.jpg
ORGANIZER;CN="Ruches et Biodiversit%C3%A9 de la Royale":MAILTO:contact@ruchesbioroyale.fr
END:VEVENT
BEGIN:VEVENT
DTSTART;TZID=Europe/Paris:20240521T113000
DTEND;TZID=Europe/Paris:20240521T133000
DTSTAMP:20260422T160148
CREATED:20240429T143400Z
LAST-MODIFIED:20240517T144625Z
UID:8941-1716291000-1716298200@www.ruchesbioroyale.fr
SUMMARY:Marché de la fête des mère au foyer Oudard
DESCRIPTION:L’association sera présente lors de la Fête au foyer Oudard de la base vie Ste Anne. Elle vous proposera : Galettes\, saucisses frites et crêpes. \n			\n				\n				\n				\n				\n				Découvrez sur notre stand une sélection de produits en circuit court tels que nos confitures\, notre miel et les produits de nos partenaires producteurs. \n\n \n\n\n			\n				\n				\n				\n				\n				Accessible aux personnes ayant un accès à la base vie et/ou au jardin Ste Anne.
URL:https://www.ruchesbioroyale.fr/evenement/fete-au-foyer-oudard/
LOCATION:Jardin Ste Anne\, 4WMM+8XC\, Toulon\, 83000\, France
CATEGORIES:Repas
ATTACH;FMTTYPE=image/jpeg:https://www.ruchesbioroyale.fr/wp-content/uploads/2024/04/Fete-des-meres.jpg
ORGANIZER;CN="Ruches et Biodiversit%C3%A9 de la Royale":MAILTO:contact@ruchesbioroyale.fr
END:VEVENT
END:VCALENDAR