BEGIN:VCALENDAR
VERSION:2.0
PRODID:-//Ruches et Biodiversité de la Royale - ECPv6.15.20//NONSGML v1.0//EN
CALSCALE:GREGORIAN
METHOD:PUBLISH
X-WR-CALNAME:Ruches et Biodiversité de la Royale
X-ORIGINAL-URL:https://www.ruchesbioroyale.fr
X-WR-CALDESC:Évènements pour Ruches et Biodiversité de la Royale
REFRESH-INTERVAL;VALUE=DURATION:PT1H
X-Robots-Tag:noindex
X-PUBLISHED-TTL:PT1H
BEGIN:VTIMEZONE
TZID:Europe/Paris
BEGIN:DAYLIGHT
TZOFFSETFROM:+0100
TZOFFSETTO:+0200
TZNAME:CEST
DTSTART:20250330T010000
END:DAYLIGHT
BEGIN:STANDARD
TZOFFSETFROM:+0200
TZOFFSETTO:+0100
TZNAME:CET
DTSTART:20251026T010000
END:STANDARD
BEGIN:DAYLIGHT
TZOFFSETFROM:+0100
TZOFFSETTO:+0200
TZNAME:CEST
DTSTART:20260329T010000
END:DAYLIGHT
BEGIN:STANDARD
TZOFFSETFROM:+0200
TZOFFSETTO:+0100
TZNAME:CET
DTSTART:20261025T010000
END:STANDARD
BEGIN:DAYLIGHT
TZOFFSETFROM:+0100
TZOFFSETTO:+0200
TZNAME:CEST
DTSTART:20270328T010000
END:DAYLIGHT
BEGIN:STANDARD
TZOFFSETFROM:+0200
TZOFFSETTO:+0100
TZNAME:CET
DTSTART:20271031T010000
END:STANDARD
END:VTIMEZONE
BEGIN:VEVENT
DTSTART;TZID=Europe/Paris:20260422T120000
DTEND;TZID=Europe/Paris:20260422T140000
DTSTAMP:20260422T155651
CREATED:20260218T151514Z
LAST-MODIFIED:20260219T071850Z
UID:9578-1776859200-1776866400@www.ruchesbioroyale.fr
SUMMARY:Troc végétal à l'Atlas Base vie Saint-Anne
DESCRIPTION:L’association participera au Troc végétal à l’Atlas Base vie Saint-Anne. Crêpes salées et sucrées au foyer Oudard. \n  \n			\n				\n				\n				\n				\n				Accessible aux personnes ayant un accès à la base vie et/ou au jardin Ste Anne. \n\n			\n				\n				\n				\n				\n				La date de l'événement est susceptible d’être modifiée en fonction des conditions météorologiques.
URL:https://www.ruchesbioroyale.fr/evenement/troc-vegetal-a-latlas-base-vie-saint-anne/
CATEGORIES:Repas
ATTACH;FMTTYPE=image/webp:https://www.ruchesbioroyale.fr/wp-content/uploads/2026/02/BVSA-torc-vegetal.webp
END:VEVENT
END:VCALENDAR